BEGIN:VCALENDAR
VERSION:2.0
PRODID:-//SportsPilot + ALMIGHTY SPORTS/
METHOD:PUBLISH
BEGIN:VEVENT
UID:2850002
DTSTAMP:20260423T195300
SUMMARY: Game:2850002: D.C. United (Hanslovan) VS Houston Dynamo (Willinger)
DESCRIPTION: Location: North Sports Fields - FBCBA / Field 2
DTSTART:20260404T090000
DTEND:20260404T100000
END:VEVENT
BEGIN:VEVENT
UID:2850006
DTSTAMP:20260423T195300
SUMMARY: Game:2850006: Miami (Harris/Cervantez) VS D.C. United (Hanslovan)
DESCRIPTION: Location: North Sports Fields - FBCBA / Field 1
DTSTART:20260411T100000
DTEND:20260411T110000
END:VEVENT
BEGIN:VEVENT
UID:2850007
DTSTAMP:20260423T195300
SUMMARY: Game:2850007: Atlanta United (Green) VS D.C. United (Hanslovan)
DESCRIPTION: Location: North Sports Fields - FBCBA / Field 1
DTSTART:20260418T090000
DTEND:20260418T100000
END:VEVENT
BEGIN:VEVENT
UID:2850012
DTSTAMP:20260423T195300
SUMMARY: Game:2850012: Cincinnati (Hood) VS D.C. United (Hanslovan)
DESCRIPTION: Location: North Sports Fields - FBCBA / Field 1
DTSTART:20260425T100000
DTEND:20260425T110000
END:VEVENT
BEGIN:VEVENT
UID:2850014
DTSTAMP:20260423T195300
SUMMARY: Game:2850014: D.C. United (Hanslovan) VS Chicago Fire (Kohl)
DESCRIPTION: Location: North Sports Fields - FBCBA / Field 2
DTSTART:20260502T090000
DTEND:20260502T100000
END:VEVENT
BEGIN:VEVENT
UID:2850018
DTSTAMP:20260423T195300
SUMMARY: Game:2850018: Houston Dynamo (Willinger) VS D.C. United (Hanslovan)
DESCRIPTION: Location: North Sports Fields - FBCBA / Field 1
DTSTART:20260509T100000
DTEND:20260509T110000
END:VEVENT
BEGIN:VEVENT
UID:2850019
DTSTAMP:20260423T195300
SUMMARY: Game:2850019: D.C. United (Hanslovan) VS Miami (Harris/Cervantez)
DESCRIPTION: Location: North Sports Fields - FBCBA / Field 1
DTSTART:20260516T090000
DTEND:20260516T100000
END:VEVENT
BEGIN:VEVENT
UID:2850023
DTSTAMP:20260423T195300
SUMMARY: Game:2850023: D.C. United (Hanslovan) VS Atlanta United (Green)
DESCRIPTION: Location: North Sports Fields - FBCBA / Field 2
DTSTART:20260526T173000
DTEND:20260526T183000
END:VEVENT
END:VCALENDAR
