BEGIN:VCALENDAR
VERSION:2.0
PRODID:-//SportsPilot + ALMIGHTY SPORTS/
METHOD:PUBLISH
BEGIN:VEVENT
UID:2850001
DTSTAMP:20260423T195300
SUMMARY: Game:2850001: Cincinnati (Hood) VS Miami (Harris/Cervantez)
DESCRIPTION: Location: North Sports Fields - FBCBA / Field 1
DTSTART:20260404T090000
DTEND:20260404T100000
END:VEVENT
BEGIN:VEVENT
UID:2850006
DTSTAMP:20260423T195300
SUMMARY: Game:2850006: Miami (Harris/Cervantez) VS D.C. United (Hanslovan)
DESCRIPTION: Location: North Sports Fields - FBCBA / Field 1
DTSTART:20260411T100000
DTEND:20260411T110000
END:VEVENT
BEGIN:VEVENT
UID:2850008
DTSTAMP:20260423T195300
SUMMARY: Game:2850008: Chicago Fire (Kohl) VS Miami (Harris/Cervantez)
DESCRIPTION: Location: North Sports Fields - FBCBA / Field 2
DTSTART:20260418T090000
DTEND:20260418T100000
END:VEVENT
BEGIN:VEVENT
UID:2850010
DTSTAMP:20260423T195300
SUMMARY: Game:2850010: Miami (Harris/Cervantez) VS Atlanta United (Green)
DESCRIPTION: Location: North Sports Fields - FBCBA / Field 1
DTSTART:20260425T090000
DTEND:20260425T100000
END:VEVENT
BEGIN:VEVENT
UID:2850015
DTSTAMP:20260423T195300
SUMMARY: Game:2850015: Houston Dynamo (Willinger) VS Miami (Harris/Cervantez)
DESCRIPTION: Location: North Sports Fields - FBCBA / Field 1
DTSTART:20260502T100000
DTEND:20260502T110000
END:VEVENT
BEGIN:VEVENT
UID:2850017
DTSTAMP:20260423T195300
SUMMARY: Game:2850017: Miami (Harris/Cervantez) VS Cincinnati (Hood)
DESCRIPTION: Location: North Sports Fields - FBCBA / Field 2
DTSTART:20260509T090000
DTEND:20260509T100000
END:VEVENT
BEGIN:VEVENT
UID:2850019
DTSTAMP:20260423T195300
SUMMARY: Game:2850019: D.C. United (Hanslovan) VS Miami (Harris/Cervantez)
DESCRIPTION: Location: North Sports Fields - FBCBA / Field 1
DTSTART:20260516T090000
DTEND:20260516T100000
END:VEVENT
BEGIN:VEVENT
UID:2850024
DTSTAMP:20260423T195300
SUMMARY: Game:2850024: Miami (Harris/Cervantez) VS Chicago Fire (Kohl)
DESCRIPTION: Location: North Sports Fields - FBCBA / Field 1
DTSTART:20260526T183000
DTEND:20260526T193000
END:VEVENT
END:VCALENDAR
