BEGIN:VCALENDAR
VERSION:2.0
PRODID:-//SportsPilot + ALMIGHTY SPORTS/
METHOD:PUBLISH
BEGIN:VEVENT
UID:2850002
DTSTAMP:20260423T195300
SUMMARY: Game:2850002: D.C. United (Hanslovan) VS Houston Dynamo (Willinger)
DESCRIPTION: Location: North Sports Fields - FBCBA / Field 2
DTSTART:20260404T090000
DTEND:20260404T100000
END:VEVENT
BEGIN:VEVENT
UID:2850005
DTSTAMP:20260423T195300
SUMMARY: Game:2850005: Atlanta United (Green) VS Houston Dynamo (Willinger)
DESCRIPTION: Location: North Sports Fields - FBCBA / Field 2
DTSTART:20260411T090000
DTEND:20260411T100000
END:VEVENT
BEGIN:VEVENT
UID:2850009
DTSTAMP:20260423T195300
SUMMARY: Game:2850009: Houston Dynamo (Willinger) VS Cincinnati (Hood)
DESCRIPTION: Location: North Sports Fields - FBCBA / Field 1
DTSTART:20260418T100000
DTEND:20260418T110000
END:VEVENT
BEGIN:VEVENT
UID:2850011
DTSTAMP:20260423T195300
SUMMARY: Game:2850011: Chicago Fire (Kohl) VS Houston Dynamo (Willinger)
DESCRIPTION: Location: North Sports Fields - FBCBA / Field 2
DTSTART:20260425T090000
DTEND:20260425T100000
END:VEVENT
BEGIN:VEVENT
UID:2850015
DTSTAMP:20260423T195300
SUMMARY: Game:2850015: Houston Dynamo (Willinger) VS Miami (Harris/Cervantez)
DESCRIPTION: Location: North Sports Fields - FBCBA / Field 1
DTSTART:20260502T100000
DTEND:20260502T110000
END:VEVENT
BEGIN:VEVENT
UID:2850018
DTSTAMP:20260423T195300
SUMMARY: Game:2850018: Houston Dynamo (Willinger) VS D.C. United (Hanslovan)
DESCRIPTION: Location: North Sports Fields - FBCBA / Field 1
DTSTART:20260509T100000
DTEND:20260509T110000
END:VEVENT
BEGIN:VEVENT
UID:2850021
DTSTAMP:20260423T195300
SUMMARY: Game:2850021: Houston Dynamo (Willinger) VS Atlanta United (Green)
DESCRIPTION: Location: North Sports Fields - FBCBA / Field 1
DTSTART:20260516T100000
DTEND:20260516T110000
END:VEVENT
BEGIN:VEVENT
UID:2850022
DTSTAMP:20260423T195300
SUMMARY: Game:2850022: Cincinnati (Hood) VS Houston Dynamo (Willinger)
DESCRIPTION: Location: North Sports Fields - FBCBA / Field 1
DTSTART:20260526T173000
DTEND:20260526T183000
END:VEVENT
END:VCALENDAR
