BEGIN:VCALENDAR
VERSION:2.0
PRODID:-//SportsPilot + ALMIGHTY SPORTS/
METHOD:PUBLISH
BEGIN:VEVENT
UID:2870001
DTSTAMP:20260423T195300
SUMMARY: Game:2870001: New England (A. Mendoza) VS San Jose (Hall)
DESCRIPTION: Location: North Sports Fields - FBCBA / Field 4
DTSTART:20260404T090000
DTEND:20260404T100000
END:VEVENT
BEGIN:VEVENT
UID:2870003
DTSTAMP:20260423T195300
SUMMARY: Game:2870003: Portland (Campball) VS New England (A. Mendoza)
DESCRIPTION: Location: North Sports Fields - FBCBA / Field 4
DTSTART:20260411T090000
DTEND:20260411T100000
END:VEVENT
BEGIN:VEVENT
UID:2870006
DTSTAMP:20260423T195300
SUMMARY: Game:2870006: New England (A. Mendoza) VS Seattle (Slavens)
DESCRIPTION: Location: North Sports Fields - FBCBA / Field 5
DTSTART:20260418T090000
DTEND:20260418T100000
END:VEVENT
BEGIN:VEVENT
UID:2870008
DTSTAMP:20260423T195300
SUMMARY: Game:2870008: San Jose (Hall) VS New England (A. Mendoza)
DESCRIPTION: Location: North Sports Fields - FBCBA / Field 5
DTSTART:20260425T090000
DTEND:20260425T100000
END:VEVENT
BEGIN:VEVENT
UID:2870010
DTSTAMP:20260423T195300
SUMMARY: Game:2870010: New England (A. Mendoza) VS Portland (Campball)
DESCRIPTION: Location: North Sports Fields - FBCBA / Field 5
DTSTART:20260502T090000
DTEND:20260502T100000
END:VEVENT
BEGIN:VEVENT
UID:2870011
DTSTAMP:20260423T195300
SUMMARY: Game:2870011: Seattle (Slavens) VS New England (A. Mendoza)
DESCRIPTION: Location: North Sports Fields - FBCBA / Field 4
DTSTART:20260509T090000
DTEND:20260509T100000
END:VEVENT
BEGIN:VEVENT
UID:2870013
DTSTAMP:20260423T195300
SUMMARY: Game:2870013: San Jose (Hall) VS New England (A. Mendoza)
DESCRIPTION: Location: North Sports Fields - FBCBA / Field 4
DTSTART:20260516T090000
DTEND:20260516T100000
END:VEVENT
BEGIN:VEVENT
UID:2870015
DTSTAMP:20260423T195300
SUMMARY: Game:2870015: New England (A. Mendoza) VS Portland (Campball)
DESCRIPTION: Location: North Sports Fields - FBCBA / Field 4
DTSTART:20260526T173000
DTEND:20260526T183000
END:VEVENT
END:VCALENDAR
