BEGIN:VCALENDAR
VERSION:2.0
PRODID:-//SportsPilot + ALMIGHTY SPORTS/
METHOD:PUBLISH
BEGIN:VEVENT
UID:2880002
DTSTAMP:20260423T195600
SUMMARY: Game:2880002: LA Galaxy (Eichelberger) VS Minnesota United (Watson)
DESCRIPTION: Location: North Sports Fields - FBCBA / Field 3
DTSTART:20260404T100000
DTEND:20260404T110000
END:VEVENT
BEGIN:VEVENT
UID:2880003
DTSTAMP:20260423T195600
SUMMARY: Game:2880003: Minnesota United (Watson) VS Nashville (Digges)
DESCRIPTION: Location: North Sports Fields - FBCBA / Field 3
DTSTART:20260411T090000
DTEND:20260411T100000
END:VEVENT
BEGIN:VEVENT
UID:2880005
DTSTAMP:20260423T195600
SUMMARY: Game:2880005: Minnesota United (Watson) VS Dallas (Dalton)
DESCRIPTION: Location: North Sports Fields - FBCBA / Field 3
DTSTART:20260418T090000
DTEND:20260418T100000
END:VEVENT
BEGIN:VEVENT
UID:2880007
DTSTAMP:20260423T195600
SUMMARY: Game:2880007: Minnesota United (Watson) VS LA Galaxy (Eichelberger)
DESCRIPTION: Location: North Sports Fields - FBCBA / Field 3
DTSTART:20260425T090000
DTEND:20260425T100000
END:VEVENT
BEGIN:VEVENT
UID:2880010
DTSTAMP:20260423T195600
SUMMARY: Game:2880010: Nashville (Digges) VS Minnesota United (Watson)
DESCRIPTION: Location: North Sports Fields - FBCBA / Field 3
DTSTART:20260502T100000
DTEND:20260502T110000
END:VEVENT
BEGIN:VEVENT
UID:2880012
DTSTAMP:20260423T195600
SUMMARY: Game:2880012: Dallas (Dalton) VS Minnesota United (Watson)
DESCRIPTION: Location: North Sports Fields - FBCBA / Field 3
DTSTART:20260509T100000
DTEND:20260509T110000
END:VEVENT
BEGIN:VEVENT
UID:2880014
DTSTAMP:20260423T195600
SUMMARY: Game:2880014: Minnesota United (Watson) VS LA Galaxy (Eichelberger)
DESCRIPTION: Location: North Sports Fields - FBCBA / Field 3
DTSTART:20260516T100000
DTEND:20260516T110000
END:VEVENT
BEGIN:VEVENT
UID:2880015
DTSTAMP:20260423T195600
SUMMARY: Game:2880015: Nashville (Digges) VS Minnesota United (Watson)
DESCRIPTION: Location: North Sports Fields - FBCBA / Field 3
DTSTART:20260526T173000
DTEND:20260526T183000
END:VEVENT
END:VCALENDAR
