BEGIN:VCALENDAR
VERSION:2.0
PRODID:-//SportsPilot + ALMIGHTY SPORTS/
METHOD:PUBLISH
BEGIN:VEVENT
UID:2880002
DTSTAMP:20260423T200400
SUMMARY: Game:2880002: LA Galaxy (Eichelberger) VS Minnesota United (Watson)
DESCRIPTION: Location: North Sports Fields - FBCBA / Field 3
DTSTART:20260404T100000
DTEND:20260404T110000
END:VEVENT
BEGIN:VEVENT
UID:2880004
DTSTAMP:20260423T200400
SUMMARY: Game:2880004: Dallas (Dalton) VS LA Galaxy (Eichelberger)
DESCRIPTION: Location: North Sports Fields - FBCBA / Field 3
DTSTART:20260411T100000
DTEND:20260411T110000
END:VEVENT
BEGIN:VEVENT
UID:2880006
DTSTAMP:20260423T200400
SUMMARY: Game:2880006: Nashville (Digges) VS LA Galaxy (Eichelberger)
DESCRIPTION: Location: North Sports Fields - FBCBA / Field 3
DTSTART:20260418T100000
DTEND:20260418T110000
END:VEVENT
BEGIN:VEVENT
UID:2880007
DTSTAMP:20260423T200400
SUMMARY: Game:2880007: Minnesota United (Watson) VS LA Galaxy (Eichelberger)
DESCRIPTION: Location: North Sports Fields - FBCBA / Field 3
DTSTART:20260425T090000
DTEND:20260425T100000
END:VEVENT
BEGIN:VEVENT
UID:2880009
DTSTAMP:20260423T200400
SUMMARY: Game:2880009: LA Galaxy (Eichelberger) VS Dallas (Dalton)
DESCRIPTION: Location: North Sports Fields - FBCBA / Field 3
DTSTART:20260502T090000
DTEND:20260502T100000
END:VEVENT
BEGIN:VEVENT
UID:2880011
DTSTAMP:20260423T200400
SUMMARY: Game:2880011: LA Galaxy (Eichelberger) VS Nashville (Digges)
DESCRIPTION: Location: North Sports Fields - FBCBA / Field 3
DTSTART:20260509T090000
DTEND:20260509T100000
END:VEVENT
BEGIN:VEVENT
UID:2880014
DTSTAMP:20260423T200400
SUMMARY: Game:2880014: Minnesota United (Watson) VS LA Galaxy (Eichelberger)
DESCRIPTION: Location: North Sports Fields - FBCBA / Field 3
DTSTART:20260516T100000
DTEND:20260516T110000
END:VEVENT
BEGIN:VEVENT
UID:2880016
DTSTAMP:20260423T200400
SUMMARY: Game:2880016: LA Galaxy (Eichelberger) VS Dallas (Dalton)
DESCRIPTION: Location: North Sports Fields - FBCBA / Field 3
DTSTART:20260526T183000
DTEND:20260526T193000
END:VEVENT
END:VCALENDAR
