BEGIN:VCALENDAR
VERSION:2.0
PRODID:-//SportsPilot + ALMIGHTY SPORTS/
METHOD:PUBLISH
BEGIN:VEVENT
UID:2890001
DTSTAMP:20260423T200100
SUMMARY: Game:2890001: Los Angeles (Still) VS New York (Waggoner)
DESCRIPTION: Location: North Sports Fields - FBCBA / Field 4
DTSTART:20260404T100000
DTEND:20260404T110000
END:VEVENT
BEGIN:VEVENT
UID:2890007
DTSTAMP:20260423T200100
SUMMARY: Game:2890007: New York (Waggoner) VS Austin (Mendoza)
DESCRIPTION: Location: North Sports Fields - FBCBA / Field 4
DTSTART:20260411T110000
DTEND:20260411T120000
END:VEVENT
BEGIN:VEVENT
UID:2890009
DTSTAMP:20260423T200100
SUMMARY: Game:2890009: Colorado (Durham) VS New York (Waggoner)
DESCRIPTION: Location: North Sports Fields - FBCBA / Field 4
DTSTART:20260418T100000
DTEND:20260418T110000
END:VEVENT
BEGIN:VEVENT
UID:2890015
DTSTAMP:20260423T200100
SUMMARY: Game:2890015: San Diego (Trout) VS New York (Waggoner)
DESCRIPTION: Location: North Sports Fields - FBCBA / Field 4
DTSTART:20260425T110000
DTEND:20260425T120000
END:VEVENT
BEGIN:VEVENT
UID:2890017
DTSTAMP:20260423T200100
SUMMARY: Game:2890017: St. Louis (Cheney) VS New York (Waggoner)
DESCRIPTION: Location: North Sports Fields - FBCBA / Field 4
DTSTART:20260502T100000
DTEND:20260502T110000
END:VEVENT
BEGIN:VEVENT
UID:2890023
DTSTAMP:20260423T200100
SUMMARY: Game:2890023: New York (Waggoner) VS Philadelphia (Chapman)
DESCRIPTION: Location: North Sports Fields - FBCBA / Field 4
DTSTART:20260509T110000
DTEND:20260509T120000
END:VEVENT
BEGIN:VEVENT
UID:2890025
DTSTAMP:20260423T200100
SUMMARY: Game:2890025: New York (Waggoner) VS Orlando (Francis)
DESCRIPTION: Location: North Sports Fields - FBCBA / Field 4
DTSTART:20260516T100000
DTEND:20260516T110000
END:VEVENT
BEGIN:VEVENT
UID:2890031
DTSTAMP:20260423T200100
SUMMARY: Game:2890031: New York (Waggoner) VS Los Angeles (Still)
DESCRIPTION: Location: North Sports Fields - FBCBA / Field 4
DTSTART:20260528T183000
DTEND:20260528T193000
END:VEVENT
END:VCALENDAR
