BEGIN:VCALENDAR
VERSION:2.0
PRODID:-//SportsPilot + ALMIGHTY SPORTS/
METHOD:PUBLISH
BEGIN:VEVENT
UID:2890002
DTSTAMP:20260423T195600
SUMMARY: Game:2890002: Austin (Mendoza) VS Orlando (Francis)
DESCRIPTION: Location: North Sports Fields - FBCBA / Field 5
DTSTART:20260404T100000
DTEND:20260404T110000
END:VEVENT
BEGIN:VEVENT
UID:2890008
DTSTAMP:20260423T195600
SUMMARY: Game:2890008: Orlando (Francis) VS Los Angeles (Still)
DESCRIPTION: Location: North Sports Fields - FBCBA / Field 5
DTSTART:20260411T110000
DTEND:20260411T120000
END:VEVENT
BEGIN:VEVENT
UID:2890010
DTSTAMP:20260423T195600
SUMMARY: Game:2890010: San Diego (Trout) VS Orlando (Francis)
DESCRIPTION: Location: North Sports Fields - FBCBA / Field 5
DTSTART:20260418T100000
DTEND:20260418T110000
END:VEVENT
BEGIN:VEVENT
UID:2890016
DTSTAMP:20260423T195600
SUMMARY: Game:2890016: Orlando (Francis) VS Colorado (Durham)
DESCRIPTION: Location: North Sports Fields - FBCBA / Field 5
DTSTART:20260425T110000
DTEND:20260425T120000
END:VEVENT
BEGIN:VEVENT
UID:2890018
DTSTAMP:20260423T195600
SUMMARY: Game:2890018: Philadelphia (Chapman) VS Orlando (Francis)
DESCRIPTION: Location: North Sports Fields - FBCBA / Field 5
DTSTART:20260502T100000
DTEND:20260502T110000
END:VEVENT
BEGIN:VEVENT
UID:2890024
DTSTAMP:20260423T195600
SUMMARY: Game:2890024: Orlando (Francis) VS St. Louis (Cheney)
DESCRIPTION: Location: North Sports Fields - FBCBA / Field 5
DTSTART:20260509T110000
DTEND:20260509T120000
END:VEVENT
BEGIN:VEVENT
UID:2890025
DTSTAMP:20260423T195600
SUMMARY: Game:2890025: New York (Waggoner) VS Orlando (Francis)
DESCRIPTION: Location: North Sports Fields - FBCBA / Field 4
DTSTART:20260516T100000
DTEND:20260516T110000
END:VEVENT
BEGIN:VEVENT
UID:2890032
DTSTAMP:20260423T195600
SUMMARY: Game:2890032: Orlando (Francis) VS Austin (Mendoza)
DESCRIPTION: Location: North Sports Fields - FBCBA / Field 5
DTSTART:20260528T183000
DTEND:20260528T193000
END:VEVENT
END:VCALENDAR
