BEGIN:VCALENDAR
VERSION:2.0
PRODID:-//SportsPilot + ALMIGHTY SPORTS/
METHOD:PUBLISH
BEGIN:VEVENT
UID:2890004
DTSTAMP:20260423T201900
SUMMARY: Game:2890004: San Diego (Trout) VS St. Louis (Cheney)
DESCRIPTION: Location: North Sports Fields - FBCBA / Field 5
DTSTART:20260404T110000
DTEND:20260404T120000
END:VEVENT
BEGIN:VEVENT
UID:2890005
DTSTAMP:20260423T201900
SUMMARY: Game:2890005: Philadelphia (Chapman) VS San Diego (Trout)
DESCRIPTION: Location: North Sports Fields - FBCBA / Field 4
DTSTART:20260411T100000
DTEND:20260411T110000
END:VEVENT
BEGIN:VEVENT
UID:2890010
DTSTAMP:20260423T201900
SUMMARY: Game:2890010: San Diego (Trout) VS Orlando (Francis)
DESCRIPTION: Location: North Sports Fields - FBCBA / Field 5
DTSTART:20260418T100000
DTEND:20260418T110000
END:VEVENT
BEGIN:VEVENT
UID:2890015
DTSTAMP:20260423T201900
SUMMARY: Game:2890015: San Diego (Trout) VS New York (Waggoner)
DESCRIPTION: Location: North Sports Fields - FBCBA / Field 4
DTSTART:20260425T110000
DTEND:20260425T120000
END:VEVENT
BEGIN:VEVENT
UID:2890019
DTSTAMP:20260423T201900
SUMMARY: Game:2890019: Los Angeles (Still) VS San Diego (Trout)
DESCRIPTION: Location: North Sports Fields - FBCBA / Field 4
DTSTART:20260502T110000
DTEND:20260502T120000
END:VEVENT
BEGIN:VEVENT
UID:2890021
DTSTAMP:20260423T201900
SUMMARY: Game:2890021: San Diego (Trout) VS Austin (Mendoza)
DESCRIPTION: Location: North Sports Fields - FBCBA / Field 4
DTSTART:20260509T100000
DTEND:20260509T110000
END:VEVENT
BEGIN:VEVENT
UID:2890027
DTSTAMP:20260423T201900
SUMMARY: Game:2890027: Colorado (Durham) VS San Diego (Trout)
DESCRIPTION: Location: North Sports Fields - FBCBA / Field 4
DTSTART:20260516T110000
DTEND:20260516T120000
END:VEVENT
BEGIN:VEVENT
UID:2890030
DTSTAMP:20260423T201900
SUMMARY: Game:2890030: St. Louis (Cheney) VS San Diego (Trout)
DESCRIPTION: Location: North Sports Fields - FBCBA / Field 5
DTSTART:20260528T173000
DTEND:20260528T183000
END:VEVENT
END:VCALENDAR
