BEGIN:VCALENDAR
VERSION:2.0
PRODID:-//SportsPilot + ALMIGHTY SPORTS/
METHOD:PUBLISH
BEGIN:VEVENT
UID:2890002
DTSTAMP:20260423T195700
SUMMARY: Game:2890002: Austin (Mendoza) VS Orlando (Francis)
DESCRIPTION: Location: North Sports Fields - FBCBA / Field 5
DTSTART:20260404T100000
DTEND:20260404T110000
END:VEVENT
BEGIN:VEVENT
UID:2890007
DTSTAMP:20260423T195700
SUMMARY: Game:2890007: New York (Waggoner) VS Austin (Mendoza)
DESCRIPTION: Location: North Sports Fields - FBCBA / Field 4
DTSTART:20260411T110000
DTEND:20260411T120000
END:VEVENT
BEGIN:VEVENT
UID:2890012
DTSTAMP:20260423T195700
SUMMARY: Game:2890012: Austin (Mendoza) VS St. Louis (Cheney)
DESCRIPTION: Location: North Sports Fields - FBCBA / Field 5
DTSTART:20260418T110000
DTEND:20260418T120000
END:VEVENT
BEGIN:VEVENT
UID:2890013
DTSTAMP:20260423T195700
SUMMARY: Game:2890013: Austin (Mendoza) VS Philadelphia (Chapman)
DESCRIPTION: Location: North Sports Fields - FBCBA / Field 4
DTSTART:20260425T100000
DTEND:20260425T110000
END:VEVENT
BEGIN:VEVENT
UID:2890020
DTSTAMP:20260423T195700
SUMMARY: Game:2890020: Austin (Mendoza) VS Colorado (Durham)
DESCRIPTION: Location: North Sports Fields - FBCBA / Field 5
DTSTART:20260502T110000
DTEND:20260502T120000
END:VEVENT
BEGIN:VEVENT
UID:2890021
DTSTAMP:20260423T195700
SUMMARY: Game:2890021: San Diego (Trout) VS Austin (Mendoza)
DESCRIPTION: Location: North Sports Fields - FBCBA / Field 4
DTSTART:20260509T100000
DTEND:20260509T110000
END:VEVENT
BEGIN:VEVENT
UID:2890028
DTSTAMP:20260423T195700
SUMMARY: Game:2890028: Los Angeles (Still) VS Austin (Mendoza)
DESCRIPTION: Location: North Sports Fields - FBCBA / Field 5
DTSTART:20260516T110000
DTEND:20260516T120000
END:VEVENT
BEGIN:VEVENT
UID:2890032
DTSTAMP:20260423T195700
SUMMARY: Game:2890032: Orlando (Francis) VS Austin (Mendoza)
DESCRIPTION: Location: North Sports Fields - FBCBA / Field 5
DTSTART:20260528T183000
DTEND:20260528T193000
END:VEVENT
END:VCALENDAR
