BEGIN:VCALENDAR
VERSION:2.0
PRODID:-//SportsPilot + ALMIGHTY SPORTS/
METHOD:PUBLISH
BEGIN:VEVENT
UID:2900002
DTSTAMP:20260423T195600
SUMMARY: Game:2900002: FC Dallas (Bolte) VS Houston Dynamo (O'Barr)
DESCRIPTION: Location: North Sports Fields - FBCBA / Field 6
DTSTART:20260404T100000
DTEND:20260404T110000
END:VEVENT
BEGIN:VEVENT
UID:2900004
DTSTAMP:20260423T195600
SUMMARY: Game:2900004: Kansas City (Portillo) VS FC Dallas (Bolte)
DESCRIPTION: Location: North Sports Fields - FBCBA / Field 6
DTSTART:20260411T100000
DTEND:20260411T110000
END:VEVENT
BEGIN:VEVENT
UID:2900006
DTSTAMP:20260423T195600
SUMMARY: Game:2900006: DC United (Van Risseghem) VS FC Dallas (Bolte)
DESCRIPTION: Location: North Sports Fields - FBCBA / Field 6
DTSTART:20260418T100000
DTEND:20260418T110000
END:VEVENT
BEGIN:VEVENT
UID:2900007
DTSTAMP:20260423T195600
SUMMARY: Game:2900007: Houston Dynamo (O'Barr) VS FC Dallas (Bolte)
DESCRIPTION: Location: North Sports Fields - FBCBA / Field 6
DTSTART:20260425T090000
DTEND:20260425T100000
END:VEVENT
BEGIN:VEVENT
UID:2900009
DTSTAMP:20260423T195600
SUMMARY: Game:2900009: FC Dallas (Bolte) VS Kansas City (Portillo)
DESCRIPTION: Location: North Sports Fields - FBCBA / Field 6
DTSTART:20260502T090000
DTEND:20260502T100000
END:VEVENT
BEGIN:VEVENT
UID:2900011
DTSTAMP:20260423T195600
SUMMARY: Game:2900011: FC Dallas (Bolte) VS DC United (Van Risseghem)
DESCRIPTION: Location: North Sports Fields - FBCBA / Field 6
DTSTART:20260509T090000
DTEND:20260509T100000
END:VEVENT
BEGIN:VEVENT
UID:2900014
DTSTAMP:20260423T195600
SUMMARY: Game:2900014: Houston Dynamo (O'Barr) VS FC Dallas (Bolte)
DESCRIPTION: Location: North Sports Fields - FBCBA / Field 6
DTSTART:20260516T100000
DTEND:20260516T110000
END:VEVENT
BEGIN:VEVENT
UID:2900016
DTSTAMP:20260423T195600
SUMMARY: Game:2900016: FC Dallas (Bolte) VS Kansas City (Portillo)
DESCRIPTION: Location: North Sports Fields - FBCBA / Field 6
DTSTART:20260526T183000
DTEND:20260526T193000
END:VEVENT
END:VCALENDAR
