BEGIN:VCALENDAR
VERSION:2.0
PRODID:-//SportsPilot + ALMIGHTY SPORTS/
METHOD:PUBLISH
BEGIN:VEVENT
UID:2900001
DTSTAMP:20260423T195500
SUMMARY: Game:2900001: DC United (Van Risseghem) VS Kansas City (Portillo)
DESCRIPTION: Location: North Sports Fields - FBCBA / Field 6
DTSTART:20260404T090000
DTEND:20260404T100000
END:VEVENT
BEGIN:VEVENT
UID:2900003
DTSTAMP:20260423T195500
SUMMARY: Game:2900003: Houston Dynamo (O'Barr) VS DC United (Van Risseghem)
DESCRIPTION: Location: North Sports Fields - FBCBA / Field 6
DTSTART:20260411T090000
DTEND:20260411T100000
END:VEVENT
BEGIN:VEVENT
UID:2900006
DTSTAMP:20260423T195500
SUMMARY: Game:2900006: DC United (Van Risseghem) VS FC Dallas (Bolte)
DESCRIPTION: Location: North Sports Fields - FBCBA / Field 6
DTSTART:20260418T100000
DTEND:20260418T110000
END:VEVENT
BEGIN:VEVENT
UID:2900008
DTSTAMP:20260423T195500
SUMMARY: Game:2900008: Kansas City (Portillo) VS DC United (Van Risseghem)
DESCRIPTION: Location: North Sports Fields - FBCBA / Field 6
DTSTART:20260425T100000
DTEND:20260425T110000
END:VEVENT
BEGIN:VEVENT
UID:2900010
DTSTAMP:20260423T195500
SUMMARY: Game:2900010: DC United (Van Risseghem) VS Houston Dynamo (O'Barr)
DESCRIPTION: Location: North Sports Fields - FBCBA / Field 6
DTSTART:20260502T100000
DTEND:20260502T110000
END:VEVENT
BEGIN:VEVENT
UID:2900011
DTSTAMP:20260423T195500
SUMMARY: Game:2900011: FC Dallas (Bolte) VS DC United (Van Risseghem)
DESCRIPTION: Location: North Sports Fields - FBCBA / Field 6
DTSTART:20260509T090000
DTEND:20260509T100000
END:VEVENT
BEGIN:VEVENT
UID:2900013
DTSTAMP:20260423T195500
SUMMARY: Game:2900013: Kansas City (Portillo) VS DC United (Van Risseghem)
DESCRIPTION: Location: North Sports Fields - FBCBA / Field 6
DTSTART:20260516T090000
DTEND:20260516T100000
END:VEVENT
BEGIN:VEVENT
UID:2900015
DTSTAMP:20260423T195500
SUMMARY: Game:2900015: DC United (Van Risseghem) VS Houston Dynamo (O'Barr)
DESCRIPTION: Location: North Sports Fields - FBCBA / Field 6
DTSTART:20260526T173000
DTEND:20260526T183000
END:VEVENT
END:VCALENDAR
