BEGIN:VCALENDAR
VERSION:2.0
PRODID:-//SportsPilot + ALMIGHTY SPORTS/
METHOD:PUBLISH
BEGIN:VEVENT
UID:2910002
DTSTAMP:20260423T200200
SUMMARY: Game:2910002: USA White (Harris) VS USA Red (Wilson)
DESCRIPTION: Location: North Sports Fields - FBCBA / Field 6
DTSTART:20260404T120000
DTEND:20260404T130000
END:VEVENT
BEGIN:VEVENT
UID:2910003
DTSTAMP:20260423T200200
SUMMARY: Game:2910003: USA Red (Wilson) VS USA Stars & Stripes (Borror)
DESCRIPTION: Location: North Sports Fields - FBCBA / Field 6
DTSTART:20260411T110000
DTEND:20260411T120000
END:VEVENT
BEGIN:VEVENT
UID:2910005
DTSTAMP:20260423T200200
SUMMARY: Game:2910005: USA Red (Wilson) VS USA Blue (Crawford)
DESCRIPTION: Location: North Sports Fields - FBCBA / Field 6
DTSTART:20260418T110000
DTEND:20260418T120000
END:VEVENT
BEGIN:VEVENT
UID:2910007
DTSTAMP:20260423T200200
SUMMARY: Game:2910007: USA Red (Wilson) VS USA White (Harris)
DESCRIPTION: Location: North Sports Fields - FBCBA / Field 6
DTSTART:20260425T110000
DTEND:20260425T120000
END:VEVENT
BEGIN:VEVENT
UID:2910010
DTSTAMP:20260423T200200
SUMMARY: Game:2910010: USA Stars & Stripes (Borror) VS USA Red (Wilson)
DESCRIPTION: Location: North Sports Fields - FBCBA / Field 6
DTSTART:20260502T120000
DTEND:20260502T130000
END:VEVENT
BEGIN:VEVENT
UID:2910012
DTSTAMP:20260423T200200
SUMMARY: Game:2910012: USA Blue (Crawford) VS USA Red (Wilson)
DESCRIPTION: Location: North Sports Fields - FBCBA / Field 6
DTSTART:20260509T120000
DTEND:20260509T130000
END:VEVENT
BEGIN:VEVENT
UID:2910014
DTSTAMP:20260423T200200
SUMMARY: Game:2910014: USA Red (Wilson) VS USA White (Harris)
DESCRIPTION: Location: North Sports Fields - FBCBA / Field 6
DTSTART:20260516T120000
DTEND:20260516T130000
END:VEVENT
BEGIN:VEVENT
UID:2910015
DTSTAMP:20260423T200200
SUMMARY: Game:2910015: USA Stars & Stripes (Borror) VS USA Red (Wilson)
DESCRIPTION: Location: North Sports Fields - FBCBA / Field 6
DTSTART:20260528T173000
DTEND:20260528T183000
END:VEVENT
END:VCALENDAR
