BEGIN:VCALENDAR
VERSION:2.0
PRODID:-//SportsPilot + ALMIGHTY SPORTS/
METHOD:PUBLISH
BEGIN:VEVENT
UID:2910001
DTSTAMP:20260423T200200
SUMMARY: Game:2910001: USA Stars & Stripes (Borror) VS USA Blue (Crawford)
DESCRIPTION: Location: North Sports Fields - FBCBA / Field 6
DTSTART:20260404T110000
DTEND:20260404T120000
END:VEVENT
BEGIN:VEVENT
UID:2910003
DTSTAMP:20260423T200200
SUMMARY: Game:2910003: USA Red (Wilson) VS USA Stars & Stripes (Borror)
DESCRIPTION: Location: North Sports Fields - FBCBA / Field 6
DTSTART:20260411T110000
DTEND:20260411T120000
END:VEVENT
BEGIN:VEVENT
UID:2910006
DTSTAMP:20260423T200200
SUMMARY: Game:2910006: USA Stars & Stripes (Borror) VS USA White (Harris)
DESCRIPTION: Location: North Sports Fields - FBCBA / Field 6
DTSTART:20260418T120000
DTEND:20260418T130000
END:VEVENT
BEGIN:VEVENT
UID:2910008
DTSTAMP:20260423T200200
SUMMARY: Game:2910008: USA Blue (Crawford) VS USA Stars & Stripes (Borror)
DESCRIPTION: Location: North Sports Fields - FBCBA / Field 6
DTSTART:20260425T120000
DTEND:20260425T130000
END:VEVENT
BEGIN:VEVENT
UID:2910010
DTSTAMP:20260423T200200
SUMMARY: Game:2910010: USA Stars & Stripes (Borror) VS USA Red (Wilson)
DESCRIPTION: Location: North Sports Fields - FBCBA / Field 6
DTSTART:20260502T120000
DTEND:20260502T130000
END:VEVENT
BEGIN:VEVENT
UID:2910011
DTSTAMP:20260423T200200
SUMMARY: Game:2910011: USA White (Harris) VS USA Stars & Stripes (Borror)
DESCRIPTION: Location: North Sports Fields - FBCBA / Field 6
DTSTART:20260509T110000
DTEND:20260509T120000
END:VEVENT
BEGIN:VEVENT
UID:2910013
DTSTAMP:20260423T200200
SUMMARY: Game:2910013: USA Blue (Crawford) VS USA Stars & Stripes (Borror)
DESCRIPTION: Location: North Sports Fields - FBCBA / Field 6
DTSTART:20260516T110000
DTEND:20260516T120000
END:VEVENT
BEGIN:VEVENT
UID:2910015
DTSTAMP:20260423T200200
SUMMARY: Game:2910015: USA Stars & Stripes (Borror) VS USA Red (Wilson)
DESCRIPTION: Location: North Sports Fields - FBCBA / Field 6
DTSTART:20260528T173000
DTEND:20260528T183000
END:VEVENT
END:VCALENDAR
